BEGIN:VCALENDAR
VERSION:2.0
PRODID:-//ArtsLIVE! - ECPv5.14.2.1//NONSGML v1.0//EN
CALSCALE:GREGORIAN
METHOD:PUBLISH
X-WR-CALNAME:ArtsLIVE!
X-ORIGINAL-URL:http://artsliveva.org
X-WR-CALDESC:Events for ArtsLIVE!
BEGIN:VTIMEZONE
TZID:America/New_York
BEGIN:DAYLIGHT
TZOFFSETFROM:-0500
TZOFFSETTO:-0400
TZNAME:EDT
DTSTART:20170312T070000
END:DAYLIGHT
BEGIN:STANDARD
TZOFFSETFROM:-0400
TZOFFSETTO:-0500
TZNAME:EST
DTSTART:20171105T060000
END:STANDARD
END:VTIMEZONE
BEGIN:VEVENT
DTSTART;VALUE=DATE:20170328
DTEND;VALUE=DATE:20170407
DTSTAMP:20260421T045936
CREATED:20170304T195156Z
LAST-MODIFIED:20170304T201117Z
UID:242-1490659200-1491523199@artsliveva.org
SUMMARY:Virginia Opera in area schools
DESCRIPTION:Enthusiastic response from teachers and students has resulted in the expansion of ArtLIVE!’s support of Virginia Opera in schools throughout the region. Funding from our members\, grants\, and the Virginia Commission for the Arts allows ArtLIVE! to present performances from Virginia Opera for children in grades K-5. Last year\, the ArtLIVE!-sponsored Virginia Opera entertained\, educated and inspired more than 6\,200 students in 13 schools in\n the greater Fredericksburg region.
URL:http://artsliveva.org/event/virginia-opera-in-area-schools
ATTACH;FMTTYPE=image/jpeg:http://artsliveva.org/wp-content/uploads/2017/03/2017ThreeLIttlePigsVAOpera.jpg
END:VEVENT
END:VCALENDAR