BEGIN:VCALENDAR
VERSION:2.0
PRODID:-//ArtsLIVE! - ECPv5.14.2.1//NONSGML v1.0//EN
CALSCALE:GREGORIAN
METHOD:PUBLISH
X-WR-CALNAME:ArtsLIVE!
X-ORIGINAL-URL:http://artsliveva.org
X-WR-CALDESC:Events for ArtsLIVE!
BEGIN:VTIMEZONE
TZID:America/New_York
BEGIN:DAYLIGHT
TZOFFSETFROM:-0500
TZOFFSETTO:-0400
TZNAME:EDT
DTSTART:20260308T070000
END:DAYLIGHT
BEGIN:STANDARD
TZOFFSETFROM:-0400
TZOFFSETTO:-0500
TZNAME:EST
DTSTART:20261101T060000
END:STANDARD
END:VTIMEZONE
BEGIN:VEVENT
DTSTART;TZID=America/New_York:20260501T170000
DTEND;TZID=America/New_York:20260501T200000
DTSTAMP:20260421T134013
CREATED:20260325T150619Z
LAST-MODIFIED:20260325T150619Z
UID:2522-1777654800-1777665600@artsliveva.org
SUMMARY:First Friday Violin Petting Zoo
DESCRIPTION:
URL:http://artsliveva.org/event/first-friday-violin-petting-zoo
LOCATION:Commonwealth Lighting of Virginia\, 811 Caroline Street\, Fredericksburg\, VA\, 22401\, United States
END:VEVENT
BEGIN:VEVENT
DTSTART;VALUE=DATE:20260502
DTEND;VALUE=DATE:20260503
DTSTAMP:20260421T134013
CREATED:20260306T180952Z
LAST-MODIFIED:20260306T180952Z
UID:2505-1777680000-1777766399@artsliveva.org
SUMMARY:Rappahannock Art Festival
DESCRIPTION:ArtsLIVE! is excited to participate in the Rappahannock Art Festival on May 2 at John Lee Pratt Memorial Park. The festival will have visual and performing artists\, food trucks\, and more. We will have an information tent and performances and activities to enjoy. Come and see us and be ready to have a fantastic day at the park!
URL:http://artsliveva.org/event/rappahannock-art-festival
LOCATION:John Lee Pratt Memorial Park\, 120 River Road\, Fredericksburg\, Virginia\, 22405
END:VEVENT
BEGIN:VEVENT
DTSTART;TZID=America/New_York:20260513T190000
DTEND;TZID=America/New_York:20260524T190000
DTSTAMP:20260421T134013
CREATED:20260306T175546Z
LAST-MODIFIED:20260306T175546Z
UID:2498-1778698800-1779649200@artsliveva.org
SUMMARY:ArtsLIVE! 37th Chamber Music Festival
DESCRIPTION:Make plans to attend our newly expanded 37th Chamber Music Festival! Three amazing chamber music programs and four wonderful performances from local professional artists. This is the perfect chance to enjoy world-renowned musicians in downtown Fredericksburg. Whether you’re a longtime festival fan or just curious\, come experience the magic of ArtsLIVE! with friends and fellow music lovers. Don’t miss out on this fun and inspiring event! \nIn addition to our incredible 3 days of Chamber music (May 13\, 15\, 16 at Trinity Episcopal Church) we are adding performances by: \n\nAvery Ballet\, “In the Spirit of Angels”\, May 17 at Trinity Episcopal Church\nVirginia Bolena (Organist)\, “She Rules the Bench: Celebrating Women Composers”\, May 19 at St. George’s Episcopal Church\nAndré & Natalie Rascoe\, “Stretching the Beautiful Boundaries of Broadway”\, May 23 at Presbyterian Church of Fredericksburg\nThe Beltway Brass\, “Squirrels\, Trigonometry and a Little TJB”\, May 24 at Presbyterian Church of Fredericksburg\n\nBundle ticketing is available for Adults and Seniors. (Bundle tickets are available under the May 13 date only.) \nSpecial Veteran discount ($5 ticket) for the May 23 concert\, “Stretching the Beautiful Boundaries of Broadway”. \nChildren and College Students are always FREE! \nWe hope to see you there!
URL:http://artsliveva.org/event/artslive-37th-chamber-music-festival
LOCATION:Trinity Episcopal Church\, 825 College Avenue\, Fredericksburg\, VA\, 22401
ORGANIZER;CN="ArtsLIVE%21":MAILTO:thearts@artsliveva.org
END:VEVENT
END:VCALENDAR